BEGIN:VCALENDAR
VERSION:2.0
PRODID:http://www.kufer.de/kuferweb / DE
METHOD:PUBLISH
CALSCALE:GREGORIAN
X-WR-TIMEZONE:Europe/Berlin
BEGIN:VTIMEZONE
TZID:Europe/Berlin
X-LIC-LOCATION:Europe/Berlin
BEGIN:DAYLIGHT
TZOFFSETFROM:+0100
TZOFFSETTO:+0200
TZNAME:CEST
DTSTART;TZID=Europe/Berlin:19700329T020000
RRULE:FREQ=YEARLY;INTERVAL=1;BYDAY=-1SU;BYMONTH=3
END:DAYLIGHT
BEGIN:STANDARD
TZOFFSETFROM:+0200
TZOFFSETTO:+0100
TZNAME:CET
DTSTART;TZID=Europe/Berlin:19701025T030000
RRULE:FREQ=YEARLY;INTERVAL=1;BYDAY=-1SU;BYMONTH=10
END:STANDARD
END:VTIMEZONE
BEGIN:VEVENT
DTSTAMP:20260421T112249
DTSTART;TZID=Europe/Berlin:20260416T173000
DTEND;TZID=Europe/Berlin:20260416T191500
UID:26-22-00.1-20260416T173000@KAWÜRZBURG
DESCRIPTION:Kick Off / Modul 1: Lern- & Arbeitsmethodik
SUMMARY:Zertifikatsstudiengang Praktische*r Betriebswirt*in (26-22-00.1)
LOCATION:Kolping-Campus, www.kolping-campus.de, 
END:VEVENT
BEGIN:VEVENT
DTSTAMP:20260421T112249
DTSTART;TZID=Europe/Berlin:20260416T191500
DTEND;TZID=Europe/Berlin:20260416T204500
UID:26-22-00.1-20260416T191500@KAWÜRZBURG
DESCRIPTION:Kick Off / Modul 1: Lern- & Arbeitsmethodik
SUMMARY:Zertifikatsstudiengang Praktische*r Betriebswirt*in (26-22-00.1)
LOCATION:Kolping-Campus, www.kolping-campus.de, 
END:VEVENT
BEGIN:VEVENT
DTSTAMP:20260421T112249
DTSTART;TZID=Europe/Berlin:20260418T090000
DTEND;TZID=Europe/Berlin:20260418T163000
UID:26-22-00.1-20260418T090000@KAWÜRZBURG
DESCRIPTION:Workshop – Modul 1
SUMMARY:Zertifikatsstudiengang Praktische*r Betriebswirt*in (26-22-00.1)
LOCATION:Kolping-Akademie Würzburg, Kolpingplatz 1, 97070 Würzburg
END:VEVENT
BEGIN:VEVENT
DTSTAMP:20260421T112249
DTSTART;TZID=Europe/Berlin:20260423T173000
DTEND;TZID=Europe/Berlin:20260423T204500
UID:26-22-00.1-20260423T173000@KAWÜRZBURG
DESCRIPTION:Modul 2: BWL & Rechnungswesen
SUMMARY:Zertifikatsstudiengang Praktische*r Betriebswirt*in (26-22-00.1)
LOCATION:Kolping-Campus, www.kolping-campus.de, 
END:VEVENT
BEGIN:VEVENT
DTSTAMP:20260421T112249
DTSTART;TZID=Europe/Berlin:20260430T173000
DTEND;TZID=Europe/Berlin:20260430T204500
UID:26-22-00.1-20260430T173000@KAWÜRZBURG
DESCRIPTION:Modul 2: BWL & Rechnungswesen
SUMMARY:Zertifikatsstudiengang Praktische*r Betriebswirt*in (26-22-00.1)
LOCATION:Kolping-Campus, www.kolping-campus.de, 
END:VEVENT
BEGIN:VEVENT
DTSTAMP:20260421T112249
DTSTART;TZID=Europe/Berlin:20260507T173000
DTEND;TZID=Europe/Berlin:20260507T204500
UID:26-22-00.1-20260507T173000@KAWÜRZBURG
DESCRIPTION:Modul 2: BWL & Rechnungswesen
SUMMARY:Zertifikatsstudiengang Praktische*r Betriebswirt*in (26-22-00.1)
LOCATION:Kolping-Campus, www.kolping-campus.de, 
END:VEVENT
BEGIN:VEVENT
DTSTAMP:20260421T112249
DTSTART;TZID=Europe/Berlin:20260513T173000
DTEND;TZID=Europe/Berlin:20260513T204500
UID:26-22-00.1-20260513T173000@KAWÜRZBURG
DESCRIPTION:Modul 2: BWL & Rechnungswesen
SUMMARY:Zertifikatsstudiengang Praktische*r Betriebswirt*in (26-22-00.1)
LOCATION:Kolping-Campus, www.kolping-campus.de, 
END:VEVENT
BEGIN:VEVENT
DTSTAMP:20260421T112249
DTSTART;TZID=Europe/Berlin:20260521T173000
DTEND;TZID=Europe/Berlin:20260521T190000
UID:26-22-00.1-20260521T173000@KAWÜRZBURG
DESCRIPTION:Modul 2: BWL & Rechnungswesen
SUMMARY:Zertifikatsstudiengang Praktische*r Betriebswirt*in (26-22-00.1)
LOCATION:Kolping-Campus, www.kolping-campus.de, 
END:VEVENT
BEGIN:VEVENT
DTSTAMP:20260421T112249
DTSTART;TZID=Europe/Berlin:20260528T173000
DTEND;TZID=Europe/Berlin:20260528T204500
UID:26-22-00.1-20260528T173000@KAWÜRZBURG
DESCRIPTION:Modul 2: BWL & Rechnungswesen
SUMMARY:Zertifikatsstudiengang Praktische*r Betriebswirt*in (26-22-00.1)
LOCATION:Kolping-Campus, www.kolping-campus.de, 
END:VEVENT
BEGIN:VEVENT
DTSTAMP:20260421T112249
DTSTART;TZID=Europe/Berlin:20260611T173000
DTEND;TZID=Europe/Berlin:20260611T204500
UID:26-22-00.1-20260611T173000@KAWÜRZBURG
DESCRIPTION:Modul 2: BWL & Rechnungswesen
SUMMARY:Zertifikatsstudiengang Praktische*r Betriebswirt*in (26-22-00.1)
LOCATION:Kolping-Campus, www.kolping-campus.de, 
END:VEVENT
BEGIN:VEVENT
DTSTAMP:20260421T112249
DTSTART;TZID=Europe/Berlin:20260613T090000
DTEND;TZID=Europe/Berlin:20260613T163000
UID:26-22-00.1-20260613T090000@KAWÜRZBURG
DESCRIPTION:Workshop – Modul 2
SUMMARY:Zertifikatsstudiengang Praktische*r Betriebswirt*in (26-22-00.1)
LOCATION:Kolping-Akademie Würzburg, Kolpingplatz 1, 97070 Würzburg
END:VEVENT
BEGIN:VEVENT
DTSTAMP:20260421T112249
DTSTART;TZID=Europe/Berlin:20260618T173000
DTEND;TZID=Europe/Berlin:20260618T204500
UID:26-22-00.1-20260618T173000@KAWÜRZBURG
DESCRIPTION:Modul 2: BWL & Rechnungswesen
SUMMARY:Zertifikatsstudiengang Praktische*r Betriebswirt*in (26-22-00.1)
LOCATION:Kolping-Campus, www.kolping-campus.de, 
END:VEVENT
BEGIN:VEVENT
DTSTAMP:20260421T112249
DTSTART;TZID=Europe/Berlin:20260624T173000
DTEND;TZID=Europe/Berlin:20260624T204500
UID:26-22-00.1-20260624T173000@KAWÜRZBURG
DESCRIPTION:Modul 2: BWL & Rechnungswesen
SUMMARY:Zertifikatsstudiengang Praktische*r Betriebswirt*in (26-22-00.1)
LOCATION:Kolping-Campus, www.kolping-campus.de, 
END:VEVENT
BEGIN:VEVENT
DTSTAMP:20260421T112249
DTSTART;TZID=Europe/Berlin:20260702T173000
DTEND;TZID=Europe/Berlin:20260702T204500
UID:26-22-00.1-20260702T173000@KAWÜRZBURG
DESCRIPTION:Modul 2: BWL & Rechnungswesen
SUMMARY:Zertifikatsstudiengang Praktische*r Betriebswirt*in (26-22-00.1)
LOCATION:Kolping-Campus, www.kolping-campus.de, 
END:VEVENT
BEGIN:VEVENT
DTSTAMP:20260421T112249
DTSTART;TZID=Europe/Berlin:20260704T090000
DTEND;TZID=Europe/Berlin:20260704T121500
UID:26-22-00.1-20260704T090000@KAWÜRZBURG
DESCRIPTION:Prüfung – Modul 2 
SUMMARY:Zertifikatsstudiengang Praktische*r Betriebswirt*in (26-22-00.1)
LOCATION:Kolping-Campus, www.kolping-campus.de, 
END:VEVENT
BEGIN:VEVENT
DTSTAMP:20260421T112249
DTSTART;TZID=Europe/Berlin:20260709T191500
DTEND;TZID=Europe/Berlin:20260709T204500
UID:26-22-00.1-20260709T191500@KAWÜRZBURG
DESCRIPTION:Auftakt Planspiel / Modul 1: Lern- & Arbeitsmethodik
SUMMARY:Zertifikatsstudiengang Praktische*r Betriebswirt*in (26-22-00.1)
LOCATION:Kolping-Campus, www.kolping-campus.de, 
END:VEVENT
BEGIN:VEVENT
DTSTAMP:20260421T112249
DTSTART;TZID=Europe/Berlin:20260716T173000
DTEND;TZID=Europe/Berlin:20260716T204500
UID:26-22-00.1-20260716T173000@KAWÜRZBURG
DESCRIPTION:Modul 3: Personalmanagement, Arbeitsrecht & Kommunikation
SUMMARY:Zertifikatsstudiengang Praktische*r Betriebswirt*in (26-22-00.1)
LOCATION:Kolping-Campus, www.kolping-campus.de, 
END:VEVENT
BEGIN:VEVENT
DTSTAMP:20260421T112249
DTSTART;TZID=Europe/Berlin:20260723T173000
DTEND;TZID=Europe/Berlin:20260723T204500
UID:26-22-00.1-20260723T173000@KAWÜRZBURG
DESCRIPTION:Modul 3: Personalmanagement, Arbeitsrecht & Kommunikation
SUMMARY:Zertifikatsstudiengang Praktische*r Betriebswirt*in (26-22-00.1)
LOCATION:Kolping-Campus, www.kolping-campus.de, 
END:VEVENT
BEGIN:VEVENT
DTSTAMP:20260421T112249
DTSTART;TZID=Europe/Berlin:20260730T173000
DTEND;TZID=Europe/Berlin:20260730T204500
UID:26-22-00.1-20260730T173000@KAWÜRZBURG
DESCRIPTION:Modul 3: Personalmanagement, Arbeitsrecht & Kommunikation
SUMMARY:Zertifikatsstudiengang Praktische*r Betriebswirt*in (26-22-00.1)
LOCATION:Kolping-Campus, www.kolping-campus.de, 
END:VEVENT
BEGIN:VEVENT
DTSTAMP:20260421T112249
DTSTART;TZID=Europe/Berlin:20260903T173000
DTEND;TZID=Europe/Berlin:20260903T204500
UID:26-22-00.1-20260903T173000@KAWÜRZBURG
DESCRIPTION:Modul 3: Personalmanagement, Arbeitsrecht & Kommunikation
SUMMARY:Zertifikatsstudiengang Praktische*r Betriebswirt*in (26-22-00.1)
LOCATION:Kolping-Campus, www.kolping-campus.de, 
END:VEVENT
BEGIN:VEVENT
DTSTAMP:20260421T112249
DTSTART;TZID=Europe/Berlin:20260910T173000
DTEND;TZID=Europe/Berlin:20260910T204500
UID:26-22-00.1-20260910T173000@KAWÜRZBURG
DESCRIPTION:Modul 3: Personalmanagement, Arbeitsrecht & Kommunikation
SUMMARY:Zertifikatsstudiengang Praktische*r Betriebswirt*in (26-22-00.1)
LOCATION:Kolping-Campus, www.kolping-campus.de, 
END:VEVENT
BEGIN:VEVENT
DTSTAMP:20260421T112249
DTSTART;TZID=Europe/Berlin:20260917T173000
DTEND;TZID=Europe/Berlin:20260917T204500
UID:26-22-00.1-20260917T173000@KAWÜRZBURG
DESCRIPTION:Modul 3: Personalmanagement, Arbeitsrecht & Kommunikation
SUMMARY:Zertifikatsstudiengang Praktische*r Betriebswirt*in (26-22-00.1)
LOCATION:Kolping-Campus, www.kolping-campus.de, 
END:VEVENT
BEGIN:VEVENT
DTSTAMP:20260421T112249
DTSTART;TZID=Europe/Berlin:20260919T090000
DTEND;TZID=Europe/Berlin:20260919T163000
UID:26-22-00.1-20260919T090000@KAWÜRZBURG
DESCRIPTION:Workshop – Modul 3
SUMMARY:Zertifikatsstudiengang Praktische*r Betriebswirt*in (26-22-00.1)
LOCATION:Kolping-Akademie Würzburg, Kolpingplatz 1, 97070 Würzburg
END:VEVENT
BEGIN:VEVENT
DTSTAMP:20260421T112249
DTSTART;TZID=Europe/Berlin:20260924T173000
DTEND;TZID=Europe/Berlin:20260924T204500
UID:26-22-00.1-20260924T173000@KAWÜRZBURG
DESCRIPTION:Modul 3: Personalmanagement, Arbeitsrecht & Kommunikation
SUMMARY:Zertifikatsstudiengang Praktische*r Betriebswirt*in (26-22-00.1)
LOCATION:Kolping-Campus, www.kolping-campus.de, 
END:VEVENT
BEGIN:VEVENT
DTSTAMP:20260421T112249
DTSTART;TZID=Europe/Berlin:20261001T173000
DTEND;TZID=Europe/Berlin:20261001T204500
UID:26-22-00.1-20261001T173000@KAWÜRZBURG
DESCRIPTION:Modul 3: Personalmanagement, Arbeitsrecht & Kommunikation
SUMMARY:Zertifikatsstudiengang Praktische*r Betriebswirt*in (26-22-00.1)
LOCATION:Kolping-Campus, www.kolping-campus.de, 
END:VEVENT
BEGIN:VEVENT
DTSTAMP:20260421T112249
DTSTART;TZID=Europe/Berlin:20261008T173000
DTEND;TZID=Europe/Berlin:20261008T204500
UID:26-22-00.1-20261008T173000@KAWÜRZBURG
DESCRIPTION:Modul 3: Personalmanagement, Arbeitsrecht & Kommunikation
SUMMARY:Zertifikatsstudiengang Praktische*r Betriebswirt*in (26-22-00.1)
LOCATION:Kolping-Campus, www.kolping-campus.de, 
END:VEVENT
BEGIN:VEVENT
DTSTAMP:20260421T112249
DTSTART;TZID=Europe/Berlin:20261012T173000
DTEND;TZID=Europe/Berlin:20261012T204500
UID:26-22-00.1-20261012T173000@KAWÜRZBURG
DESCRIPTION:Modul 3: Personalmanagement, Arbeitsrecht & Kommunikation
SUMMARY:Zertifikatsstudiengang Praktische*r Betriebswirt*in (26-22-00.1)
LOCATION:Kolping-Campus, www.kolping-campus.de, 
END:VEVENT
BEGIN:VEVENT
DTSTAMP:20260421T112249
DTSTART;TZID=Europe/Berlin:20261021T191500
DTEND;TZID=Europe/Berlin:20261021T204500
UID:26-22-00.1-20261021T191500@KAWÜRZBURG
DESCRIPTION:Planspiel / Modul 4: Wirtschaftsrecht & VWL
SUMMARY:Zertifikatsstudiengang Praktische*r Betriebswirt*in (26-22-00.1)
LOCATION:Kolping-Campus, www.kolping-campus.de, 
END:VEVENT
BEGIN:VEVENT
DTSTAMP:20260421T112249
DTSTART;TZID=Europe/Berlin:20261024T090000
DTEND;TZID=Europe/Berlin:20261024T163000
UID:26-22-00.1-20261024T090000@KAWÜRZBURG
DESCRIPTION:Workshop – Modul 4
SUMMARY:Zertifikatsstudiengang Praktische*r Betriebswirt*in (26-22-00.1)
LOCATION:Kolping-Akademie Würzburg, Kolpingplatz 1, 97070 Würzburg
END:VEVENT
BEGIN:VEVENT
DTSTAMP:20260421T112249
DTSTART;TZID=Europe/Berlin:20261029T173000
DTEND;TZID=Europe/Berlin:20261029T204500
UID:26-22-00.1-20261029T173000@KAWÜRZBURG
DESCRIPTION:Modul 4: Wirtschaftsrecht & VWL
SUMMARY:Zertifikatsstudiengang Praktische*r Betriebswirt*in (26-22-00.1)
LOCATION:Kolping-Campus, www.kolping-campus.de, 
END:VEVENT
BEGIN:VEVENT
DTSTAMP:20260421T112249
DTSTART;TZID=Europe/Berlin:20261105T173000
DTEND;TZID=Europe/Berlin:20261105T204500
UID:26-22-00.1-20261105T173000@KAWÜRZBURG
DESCRIPTION:Modul 4: Wirtschaftsrecht & VWL
SUMMARY:Zertifikatsstudiengang Praktische*r Betriebswirt*in (26-22-00.1)
LOCATION:Kolping-Campus, www.kolping-campus.de, 
END:VEVENT
BEGIN:VEVENT
DTSTAMP:20260421T112249
DTSTART;TZID=Europe/Berlin:20261112T173000
DTEND;TZID=Europe/Berlin:20261112T204500
UID:26-22-00.1-20261112T173000@KAWÜRZBURG
DESCRIPTION:Modul 4: Wirtschaftsrecht & VWL
SUMMARY:Zertifikatsstudiengang Praktische*r Betriebswirt*in (26-22-00.1)
LOCATION:Kolping-Campus, www.kolping-campus.de, 
END:VEVENT
BEGIN:VEVENT
DTSTAMP:20260421T112249
DTSTART;TZID=Europe/Berlin:20261119T173000
DTEND;TZID=Europe/Berlin:20261119T204500
UID:26-22-00.1-20261119T173000@KAWÜRZBURG
DESCRIPTION:Modul 4: Wirtschaftsrecht & VWL
SUMMARY:Zertifikatsstudiengang Praktische*r Betriebswirt*in (26-22-00.1)
LOCATION:Kolping-Campus, www.kolping-campus.de, 
END:VEVENT
BEGIN:VEVENT
DTSTAMP:20260421T112249
DTSTART;TZID=Europe/Berlin:20261126T173000
DTEND;TZID=Europe/Berlin:20261126T204500
UID:26-22-00.1-20261126T173000@KAWÜRZBURG
DESCRIPTION:Modul 4: Wirtschaftsrecht & VWL
SUMMARY:Zertifikatsstudiengang Praktische*r Betriebswirt*in (26-22-00.1)
LOCATION:Kolping-Campus, www.kolping-campus.de, 
END:VEVENT
BEGIN:VEVENT
DTSTAMP:20260421T112249
DTSTART;TZID=Europe/Berlin:20261202T173000
DTEND;TZID=Europe/Berlin:20261202T204500
UID:26-22-00.1-20261202T173000@KAWÜRZBURG
DESCRIPTION:Modul 4: Wirtschaftsrecht & VWL
SUMMARY:Zertifikatsstudiengang Praktische*r Betriebswirt*in (26-22-00.1)
LOCATION:Kolping-Campus, www.kolping-campus.de, 
END:VEVENT
BEGIN:VEVENT
DTSTAMP:20260421T112249
DTSTART;TZID=Europe/Berlin:20261210T173000
DTEND;TZID=Europe/Berlin:20261210T204500
UID:26-22-00.1-20261210T173000@KAWÜRZBURG
DESCRIPTION:Modul 4: Wirtschaftsrecht & VWL
SUMMARY:Zertifikatsstudiengang Praktische*r Betriebswirt*in (26-22-00.1)
LOCATION:Kolping-Campus, www.kolping-campus.de, 
END:VEVENT
BEGIN:VEVENT
DTSTAMP:20260421T112249
DTSTART;TZID=Europe/Berlin:20261217T173000
DTEND;TZID=Europe/Berlin:20261217T204500
UID:26-22-00.1-20261217T173000@KAWÜRZBURG
DESCRIPTION:Modul 4: Wirtschaftsrecht & VWL
SUMMARY:Zertifikatsstudiengang Praktische*r Betriebswirt*in (26-22-00.1)
LOCATION:Kolping-Campus, www.kolping-campus.de, 
END:VEVENT
BEGIN:VEVENT
DTSTAMP:20260421T112249
DTSTART;TZID=Europe/Berlin:20270114T173000
DTEND;TZID=Europe/Berlin:20270114T204500
UID:26-22-00.1-20270114T173000@KAWÜRZBURG
DESCRIPTION:Modul 4: Wirtschaftsrecht & VWL
SUMMARY:Zertifikatsstudiengang Praktische*r Betriebswirt*in (26-22-00.1)
LOCATION:Kolping-Campus, www.kolping-campus.de, 
END:VEVENT
BEGIN:VEVENT
DTSTAMP:20260421T112249
DTSTART;TZID=Europe/Berlin:20270121T191500
DTEND;TZID=Europe/Berlin:20270121T204500
UID:26-22-00.1-20270121T191500@KAWÜRZBURG
DESCRIPTION:Planspiel / Modul 5: Organisationsentwicklung
SUMMARY:Zertifikatsstudiengang Praktische*r Betriebswirt*in (26-22-00.1)
LOCATION:Kolping-Campus, www.kolping-campus.de, 
END:VEVENT
BEGIN:VEVENT
DTSTAMP:20260421T112249
DTSTART;TZID=Europe/Berlin:20270128T173000
DTEND;TZID=Europe/Berlin:20270128T204500
UID:26-22-00.1-20270128T173000@KAWÜRZBURG
DESCRIPTION:Modul 5: Organisationsentwicklung
SUMMARY:Zertifikatsstudiengang Praktische*r Betriebswirt*in (26-22-00.1)
LOCATION:Kolping-Campus, www.kolping-campus.de, 
END:VEVENT
BEGIN:VEVENT
DTSTAMP:20260421T112249
DTSTART;TZID=Europe/Berlin:20270130T090000
DTEND;TZID=Europe/Berlin:20270130T163000
UID:26-22-00.1-20270130T090000@KAWÜRZBURG
DESCRIPTION:Workshop – Modul 5
SUMMARY:Zertifikatsstudiengang Praktische*r Betriebswirt*in (26-22-00.1)
LOCATION:Kolping-Akademie Würzburg, Kolpingplatz 1, 97070 Würzburg
END:VEVENT
BEGIN:VEVENT
DTSTAMP:20260421T112249
DTSTART;TZID=Europe/Berlin:20270204T173000
DTEND;TZID=Europe/Berlin:20270204T204500
UID:26-22-00.1-20270204T173000@KAWÜRZBURG
DESCRIPTION:Modul 5: Organisationsentwicklung
SUMMARY:Zertifikatsstudiengang Praktische*r Betriebswirt*in (26-22-00.1)
LOCATION:Kolping-Campus, www.kolping-campus.de, 
END:VEVENT
BEGIN:VEVENT
DTSTAMP:20260421T112249
DTSTART;TZID=Europe/Berlin:20270211T173000
DTEND;TZID=Europe/Berlin:20270211T204500
UID:26-22-00.1-20270211T173000@KAWÜRZBURG
DESCRIPTION:Modul 5: Organisationsentwicklung
SUMMARY:Zertifikatsstudiengang Praktische*r Betriebswirt*in (26-22-00.1)
LOCATION:Kolping-Campus, www.kolping-campus.de, 
END:VEVENT
BEGIN:VEVENT
DTSTAMP:20260421T112249
DTSTART;TZID=Europe/Berlin:20270218T173000
DTEND;TZID=Europe/Berlin:20270218T204500
UID:26-22-00.1-20270218T173000@KAWÜRZBURG
DESCRIPTION:Modul 5: Organisationsentwicklung
SUMMARY:Zertifikatsstudiengang Praktische*r Betriebswirt*in (26-22-00.1)
LOCATION:Kolping-Campus, www.kolping-campus.de, 
END:VEVENT
BEGIN:VEVENT
DTSTAMP:20260421T112249
DTSTART;TZID=Europe/Berlin:20270225T173000
DTEND;TZID=Europe/Berlin:20270225T204500
UID:26-22-00.1-20270225T173000@KAWÜRZBURG
DESCRIPTION:Modul 5: Organisationsentwicklung
SUMMARY:Zertifikatsstudiengang Praktische*r Betriebswirt*in (26-22-00.1)
LOCATION:Kolping-Campus, www.kolping-campus.de, 
END:VEVENT
BEGIN:VEVENT
DTSTAMP:20260421T112249
DTSTART;TZID=Europe/Berlin:20270304T173000
DTEND;TZID=Europe/Berlin:20270304T204500
UID:26-22-00.1-20270304T173000@KAWÜRZBURG
DESCRIPTION:Modul 6: Unternehmensführung & Innovation
SUMMARY:Zertifikatsstudiengang Praktische*r Betriebswirt*in (26-22-00.1)
LOCATION:Kolping-Campus, www.kolping-campus.de, 
END:VEVENT
BEGIN:VEVENT
DTSTAMP:20260421T112249
DTSTART;TZID=Europe/Berlin:20270311T173000
DTEND;TZID=Europe/Berlin:20270311T204500
UID:26-22-00.1-20270311T173000@KAWÜRZBURG
DESCRIPTION:Modul 6: Unternehmensführung & Innovation
SUMMARY:Zertifikatsstudiengang Praktische*r Betriebswirt*in (26-22-00.1)
LOCATION:Kolping-Campus, www.kolping-campus.de, 
END:VEVENT
BEGIN:VEVENT
DTSTAMP:20260421T112249
DTSTART;TZID=Europe/Berlin:20270313T090000
DTEND;TZID=Europe/Berlin:20270313T163000
UID:26-22-00.1-20270313T090000@KAWÜRZBURG
DESCRIPTION:Workshop – Modul 6
SUMMARY:Zertifikatsstudiengang Praktische*r Betriebswirt*in (26-22-00.1)
LOCATION:Kolping-Akademie Würzburg, Kolpingplatz 1, 97070 Würzburg
END:VEVENT
BEGIN:VEVENT
DTSTAMP:20260421T112249
DTSTART;TZID=Europe/Berlin:20270318T173000
DTEND;TZID=Europe/Berlin:20270318T204500
UID:26-22-00.1-20270318T173000@KAWÜRZBURG
DESCRIPTION:Modul 6: Unternehmensführung & Innovation
SUMMARY:Zertifikatsstudiengang Praktische*r Betriebswirt*in (26-22-00.1)
LOCATION:Kolping-Campus, www.kolping-campus.de, 
END:VEVENT
BEGIN:VEVENT
DTSTAMP:20260421T112249
DTSTART;TZID=Europe/Berlin:20270325T173000
DTEND;TZID=Europe/Berlin:20270325T204500
UID:26-22-00.1-20270325T173000@KAWÜRZBURG
DESCRIPTION:Modul 6: Unternehmensführung & Innovation
SUMMARY:Zertifikatsstudiengang Praktische*r Betriebswirt*in (26-22-00.1)
LOCATION:Kolping-Campus, www.kolping-campus.de, 
END:VEVENT
BEGIN:VEVENT
DTSTAMP:20260421T112249
DTSTART;TZID=Europe/Berlin:20270401T173000
DTEND;TZID=Europe/Berlin:20270401T204500
UID:26-22-00.1-20270401T173000@KAWÜRZBURG
DESCRIPTION:Modul 6: Unternehmensführung & Innovation
SUMMARY:Zertifikatsstudiengang Praktische*r Betriebswirt*in (26-22-00.1)
LOCATION:Kolping-Campus, www.kolping-campus.de, 
END:VEVENT
BEGIN:VEVENT
DTSTAMP:20260421T112249
DTSTART;TZID=Europe/Berlin:20270408T173000
DTEND;TZID=Europe/Berlin:20270408T204500
UID:26-22-00.1-20270408T173000@KAWÜRZBURG
DESCRIPTION:Modul 6: Unternehmensführung & Innovation
SUMMARY:Zertifikatsstudiengang Praktische*r Betriebswirt*in (26-22-00.1)
LOCATION:Kolping-Campus, www.kolping-campus.de, 
END:VEVENT
BEGIN:VEVENT
DTSTAMP:20260421T112249
DTSTART;TZID=Europe/Berlin:20270415T173000
DTEND;TZID=Europe/Berlin:20270415T204500
UID:26-22-00.1-20270415T173000@KAWÜRZBURG
DESCRIPTION:Planspiel / Modul 7: Marketing & Vertrieb
SUMMARY:Zertifikatsstudiengang Praktische*r Betriebswirt*in (26-22-00.1)
LOCATION:Kolping-Campus, www.kolping-campus.de, 
END:VEVENT
BEGIN:VEVENT
DTSTAMP:20260421T112249
DTSTART;TZID=Europe/Berlin:20270422T173000
DTEND;TZID=Europe/Berlin:20270422T204500
UID:26-22-00.1-20270422T173000@KAWÜRZBURG
DESCRIPTION:Modul 7: Marketing & Vertrieb
SUMMARY:Zertifikatsstudiengang Praktische*r Betriebswirt*in (26-22-00.1)
LOCATION:Kolping-Campus, www.kolping-campus.de, 
END:VEVENT
BEGIN:VEVENT
DTSTAMP:20260421T112249
DTSTART;TZID=Europe/Berlin:20270424T090000
DTEND;TZID=Europe/Berlin:20270424T163000
UID:26-22-00.1-20270424T090000@KAWÜRZBURG
DESCRIPTION:Workshop – Modul 7
SUMMARY:Zertifikatsstudiengang Praktische*r Betriebswirt*in (26-22-00.1)
LOCATION:Kolping-Akademie Würzburg, Kolpingplatz 1, 97070 Würzburg
END:VEVENT
BEGIN:VEVENT
DTSTAMP:20260421T112249
DTSTART;TZID=Europe/Berlin:20270429T173000
DTEND;TZID=Europe/Berlin:20270429T204500
UID:26-22-00.1-20270429T173000@KAWÜRZBURG
DESCRIPTION:Modul 7: Marketing & Vertrieb
SUMMARY:Zertifikatsstudiengang Praktische*r Betriebswirt*in (26-22-00.1)
LOCATION:Kolping-Campus, www.kolping-campus.de, 
END:VEVENT
BEGIN:VEVENT
DTSTAMP:20260421T112249
DTSTART;TZID=Europe/Berlin:20270505T173000
DTEND;TZID=Europe/Berlin:20270505T204500
UID:26-22-00.1-20270505T173000@KAWÜRZBURG
DESCRIPTION:Modul 7: Marketing & Vertrieb
SUMMARY:Zertifikatsstudiengang Praktische*r Betriebswirt*in (26-22-00.1)
LOCATION:Kolping-Campus, www.kolping-campus.de, 
END:VEVENT
BEGIN:VEVENT
DTSTAMP:20260421T112249
DTSTART;TZID=Europe/Berlin:20270513T173000
DTEND;TZID=Europe/Berlin:20270513T204500
UID:26-22-00.1-20270513T173000@KAWÜRZBURG
DESCRIPTION:Modul 7: Marketing & Vertrieb
SUMMARY:Zertifikatsstudiengang Praktische*r Betriebswirt*in (26-22-00.1)
LOCATION:Kolping-Campus, www.kolping-campus.de, 
END:VEVENT
BEGIN:VEVENT
DTSTAMP:20260421T112249
DTSTART;TZID=Europe/Berlin:20270520T173000
DTEND;TZID=Europe/Berlin:20270520T204500
UID:26-22-00.1-20270520T173000@KAWÜRZBURG
DESCRIPTION:Modul 7: Marketing & Vertrieb
SUMMARY:Zertifikatsstudiengang Praktische*r Betriebswirt*in (26-22-00.1)
LOCATION:Kolping-Campus, www.kolping-campus.de, 
END:VEVENT
BEGIN:VEVENT
DTSTAMP:20260421T112249
DTSTART;TZID=Europe/Berlin:20270603T191500
DTEND;TZID=Europe/Berlin:20270603T204500
UID:26-22-00.1-20270603T191500@KAWÜRZBURG
DESCRIPTION:Planspiel / Modul 8: Produktion & Logistik
SUMMARY:Zertifikatsstudiengang Praktische*r Betriebswirt*in (26-22-00.1)
LOCATION:Kolping-Campus, www.kolping-campus.de, 
END:VEVENT
BEGIN:VEVENT
DTSTAMP:20260421T112249
DTSTART;TZID=Europe/Berlin:20270610T173000
DTEND;TZID=Europe/Berlin:20270610T204500
UID:26-22-00.1-20270610T173000@KAWÜRZBURG
DESCRIPTION:Modul 8: Produktion & Logistik
SUMMARY:Zertifikatsstudiengang Praktische*r Betriebswirt*in (26-22-00.1)
LOCATION:Kolping-Campus, www.kolping-campus.de, 
END:VEVENT
BEGIN:VEVENT
DTSTAMP:20260421T112249
DTSTART;TZID=Europe/Berlin:20270612T220000
DTEND;TZID=Europe/Berlin:20270612T220000
UID:26-22-00.1-20270612T220000@KAWÜRZBURG
DESCRIPTION:Abgabe Planspiel-Konzept (bis 22 Uhr)
SUMMARY:Zertifikatsstudiengang Praktische*r Betriebswirt*in (26-22-00.1)
LOCATION:Kolping-Campus, www.kolping-campus.de, 
END:VEVENT
BEGIN:VEVENT
DTSTAMP:20260421T112249
DTSTART;TZID=Europe/Berlin:20270617T173000
DTEND;TZID=Europe/Berlin:20270617T204500
UID:26-22-00.1-20270617T173000@KAWÜRZBURG
DESCRIPTION:Modul 8: Produktion & Logistik
SUMMARY:Zertifikatsstudiengang Praktische*r Betriebswirt*in (26-22-00.1)
LOCATION:Kolping-Campus, www.kolping-campus.de, 
END:VEVENT
BEGIN:VEVENT
DTSTAMP:20260421T112249
DTSTART;TZID=Europe/Berlin:20270619T090000
DTEND;TZID=Europe/Berlin:20270619T163000
UID:26-22-00.1-20270619T090000@KAWÜRZBURG
DESCRIPTION:Workshop – Modul 8
SUMMARY:Zertifikatsstudiengang Praktische*r Betriebswirt*in (26-22-00.1)
LOCATION:Kolping-Akademie Würzburg, Kolpingplatz 1, 97070 Würzburg
END:VEVENT
BEGIN:VEVENT
DTSTAMP:20260421T112249
DTSTART;TZID=Europe/Berlin:20270624T173000
DTEND;TZID=Europe/Berlin:20270624T204500
UID:26-22-00.1-20270624T173000@KAWÜRZBURG
DESCRIPTION:Modul 8: Produktion & Logistik
SUMMARY:Zertifikatsstudiengang Praktische*r Betriebswirt*in (26-22-00.1)
LOCATION:Kolping-Campus, www.kolping-campus.de, 
END:VEVENT
BEGIN:VEVENT
DTSTAMP:20260421T112249
DTSTART;TZID=Europe/Berlin:20270701T173000
DTEND;TZID=Europe/Berlin:20270701T204500
UID:26-22-00.1-20270701T173000@KAWÜRZBURG
DESCRIPTION:Modul 8: Produktion & Logistik
SUMMARY:Zertifikatsstudiengang Praktische*r Betriebswirt*in (26-22-00.1)
LOCATION:Kolping-Campus, www.kolping-campus.de, 
END:VEVENT
BEGIN:VEVENT
DTSTAMP:20260421T112249
DTSTART;TZID=Europe/Berlin:20270708T173000
DTEND;TZID=Europe/Berlin:20270708T204500
UID:26-22-00.1-20270708T173000@KAWÜRZBURG
DESCRIPTION:Modul 8: Produktion & Logistik
SUMMARY:Zertifikatsstudiengang Praktische*r Betriebswirt*in (26-22-00.1)
LOCATION:Kolping-Campus, www.kolping-campus.de, 
END:VEVENT
BEGIN:VEVENT
DTSTAMP:20260421T112249
DTSTART;TZID=Europe/Berlin:20270710T090000
DTEND;TZID=Europe/Berlin:20270710T121500
UID:26-22-00.1-20270710T090000@KAWÜRZBURG
DESCRIPTION:Prüfung – Modul 8 
SUMMARY:Zertifikatsstudiengang Praktische*r Betriebswirt*in (26-22-00.1)
LOCATION:Kolping-Campus, www.kolping-campus.de, 
END:VEVENT
BEGIN:VEVENT
DTSTAMP:20260421T112249
DTSTART;TZID=Europe/Berlin:20270715T173000
DTEND;TZID=Europe/Berlin:20270715T204500
UID:26-22-00.1-20270715T173000@KAWÜRZBURG
DESCRIPTION:Modul 1: Lern- & Arbeitsmethodik
SUMMARY:Zertifikatsstudiengang Praktische*r Betriebswirt*in (26-22-00.1)
LOCATION:Kolping-Campus, www.kolping-campus.de, 
END:VEVENT
BEGIN:VEVENT
DTSTAMP:20260421T112249
DTSTART;TZID=Europe/Berlin:20270717T090000
DTEND;TZID=Europe/Berlin:20270717T140000
UID:26-22-00.1-20270717T090000@KAWÜRZBURG
DESCRIPTION:Abschlussprüfung - Planspiel
SUMMARY:Zertifikatsstudiengang Praktische*r Betriebswirt*in (26-22-00.1)
LOCATION:Kolping-Campus, www.kolping-campus.de, 
END:VEVENT
END:VCALENDAR